BEGIN:VCALENDAR
VERSION:2.0
PRODID:-//CERN//INDICO//EN
BEGIN:VEVENT
SUMMARY:KIAS HEP-PH Journal Club meeting
DTSTART:20260410T020000Z
DTEND:20260410T040000Z
DTSTAMP:20260423T185600Z
UID:indico-event-406@indico.kias.re.kr
CONTACT:binxu@kias.re.kr
DESCRIPTION:=============== journal club meeting ===============\nTime:
  Friday 11:00-12:00 (KST)\nPlace: Room 1423\n \n- Talk Information\n \nT
 alk1\n \nSpeaker: Dr. Kayoung Ban\nTitle: Neural Scaling Laws for Boosted
  Jet TaggingReference: https://arxiv.org/abs/2602.15781\nTalk2\n \nSpeake
 r: Dr. Suro KimTitle: The Curved Spacetime of Transformer ArchitecturesRef
 erence: arXiv:2511.03060\n \n \n===========lunch polling===============\
 nLunch menu will be TBA.\nPlease participate in the polling for the option
 s below before 18:00 this Thursday.\nBy the rule change\, lunch will be ca
 nceled if there are no external participants.\nMenu and vote: TBA\n \n \
 n===================================KIAS official Youtube channel:https://
 www.youtube.com/channel/UCDHm-rkJk6lEApBOkj9q-ZQKIAS HEP-ph Youtube channe
 l:https://www.youtube.com/channel/UCVXTeRaZ8oFPEN40IMvgewwYou can find KIA
 S HEP-ph calendar:https://indico.kias.re.kr/category/0/calendar\n \n\nhtt
 ps://indico.kias.re.kr/event/406/
URL:https://indico.kias.re.kr/event/406/
END:VEVENT
END:VCALENDAR
