BEGIN:VCALENDAR
VERSION:2.0
PRODID:-//CERN//INDICO//EN
BEGIN:VEVENT
SUMMARY:KIAS HEP-PH Journal Club meeting
DTSTART:20260417T020000Z
DTEND:20260417T040000Z
DTSTAMP:20260423T185600Z
UID:indico-event-408@indico.kias.re.kr
CONTACT:binxu@kias.re.kr
DESCRIPTION:=============== journal club meeting ===============\nTime:
  Friday 11:00-12:00 (KST)\nPlace: Room 1423\n \n- Talk Information\n \nT
 alk1\n \nSpeaker: Dr. Kiyoharu Kawana\nTitle: Reference: \nTalk2\n \nS
 peaker: Dr. Sanjoy MandalTitle: Reference: \n \n \n===========lunch po
 lling===============\nLunch menu will be TBA.\nPlease participate in the p
 olling for the options below before 18:00 this Thursday.\nBy the rule chan
 ge\, lunch will be canceled if there are no external participants.\nMenu a
 nd vote: TBA\n \n \n===================================KIAS official You
 tube channel:https://www.youtube.com/channel/UCDHm-rkJk6lEApBOkj9q-ZQKIAS 
 HEP-ph Youtube channel:https://www.youtube.com/channel/UCVXTeRaZ8oFPEN40IM
 vgewwYou can find KIAS HEP-ph calendar:https://indico.kias.re.kr/category/
 0/calendar\n \n\nhttps://indico.kias.re.kr/event/408/
URL:https://indico.kias.re.kr/event/408/
END:VEVENT
END:VCALENDAR
